Workbook

Sheet Hinweise zu dieser Datei
A1: Hinweise zu dieser Datei
A3: Allgemeines
A5: Diese Datei beinhaltet die Möglichkeit der elektronischen Erfassung der monatlichen Streckenliste und jährlichen Streckenmeldung für die einzelnen Jagdreviere im Kreis Minden-Lübbecke. Achten Sie bitte darauf, dass Sie die Makros in dieser Datei aktivieren um alle Funktionen nutzen zu können. Die Eingabe der Daten erfolgt in den nachfolgenden Arbeitsblättern. Sie sind fehlerfrei und vollständig einzutragen. Aufgrund von Pflichtfeldern (*) ist sowohl das Drucken des Dokuments, als auch das Speichern der Datei ohne diese Angaben nicht möglich.
A7: Hinweise zum Ausfüllen der Arbeitsblätter
A9: In den Arbeitsblättern der Strecken Rot-, Sika-, Dam-, Muffel-, Reh- und Schwarzwild ist jedes erlegte Stück (auch das Fallwild und die Verkehrsverluste) aufgrund der Transparenz in eine eigene Zeile einzutragen. Dabei ist darauf zu achten, dass ein Wert (1) und nicht ein Buchstabe (z. B. "X") eingetragen wird. Ansonsten kann eine Berechnung der Werte nicht einwandfrei erfolgen. Sonstiges Haarwild, Federwild und sonstige zur Strecke gekommenen Stücke können von der Anzahl bei der jeweiligen Wildart zusammengefasst eingetragen werden. Bei der Übermittlung der Streckenergebnisse an die untere Jagdbehörde ist darauf zu achten, dass alle Arbeitsblätter elektronisch oder auf dem Postweg übermittelt werden.
A11: Datenschutz
A13: Diese Datei enthält nach Ergänzung der erforderlichen Angaben personenbezogene Daten. Der Nutzer dieser Datei entscheidet eigenständig darüber, ob er die personenbezogenen Daten auf dem elektronischen Weg dem Kreis Minden-Lübbecke, untere Jagdbehörde, übermittelt und zur weiteren Verwendung zur Verfügung stellt. Sofern die Daten nicht elektronisch übermittelt werden, hat die Abgabe der Streckenliste und -meldung per Telefax, auf dem Postweg oder persönlich zu erfolgen. Da momentan die Kommunikationswege für Excel-Dateien gestört sind, können die Meldungen derzeit per E-Mail nur im PDF-Format empfangen werden.
A15: Herausgeber
A17: Kreis Minden-Lübbecke Rechts- und Ordnungsamt - untere Jagdbehörde - Portastraße 13 32423 Minden Ansprechpartner: Herr Müller
A18: Telefon: | B18: 0571 807 21605
A19: Telefax: | B19: 0571 807 31605
A20: E-Mail: | B20: f.mueller@minden-luebbecke.de
A22: Stand 01/2026

Sheet Streckenliste Vorderseite
A1: Kreis Minden-Lübbecke Der Landrat Rechts und Ordnungsamt Portastraße 13 32423 Minden
I2: Jagdjahr* | K2: 2025/2026
A5: Monatliche Streckenliste gemäß § 22 Absatz 8 LJG-NRW
B7: Eigenjagdbezirk* | D7: Gemeinschaftlicher Jagdbezirk*
A8: Name des Jagdbezirks*
A10: Jagdausübungsberechtigte(r)*
A11: Name, Vorname, Anschrift*
A13: Name, Vorname, Anschrift
A15: Name, Vorname, Anschrift
A17: Name, Vorname, Anschrift
A19: Name, Vorname, Anschrift
A21: Name, Vorname, Anschrift
A23: Name, Vorname, Anschrift
A25: Name, Vorname, Anschrift
A28: Größe des Jagdbezirks* | E28: ha | F28: davon jagdlich nutzbare Fläche | M28: ha
A29: Über den Abschuss von Wild aller Arten sowie über das Fallwild, soweit es sich um Schalenwild handelt, sind Eintragungen in die Liste innerhalb eines Monats vorzunehmen. Die Streckenliste ist der unteren Jagdbehörde jederzeit auf Verlangen zur Einsicht vorzulegen.
Q36: 2024/2025
Q37: 2025/2026
Q38: 2026/2027
Q39: 2027/2028

Sheet Rotwild
A1: Jagdbezirk: | C1: ='Streckenliste Vorderseite'!A9 -> 0
A2: Jagdjahr: | C2: ='Streckenliste Vorderseite'!K2 -> 2025/2026
A4: Lfd. Nr. | B4: Datum* des Abschusses | C4: Gewicht* in kg | D4: Wildart (Geschlecht und Klasse gemäß Anlage 1 zu § 21 DVO LJG-NRW)
D5: Rotwild | M5: Bemerkungen*
D6: Hirsche | M6: (z. B. Jagdart, Erleger, Verwendung, Erlegung kranken Wildes außerhalb der Jagdzeit, Art des Fallwildes (Straßenverkehr etc.)) * Bitte unbedingt mit ausfüllen!
D7: 1 | E7: 2 | F7: 3 | G7: 4 | H7: 5 | I7: 5 | J7: 4 | K7: 3
D8: Alte Hirsche | E8: Mittelalte Hirsche | F8: Junge Hirsche | G8: Jährlinge | H8: Hirschkälber | I8: Wildkälber | J8: Schmaltiere | K8: Alttiere | L8: Fallwild/Verkehrsverlust
A10: Festgesetzter Abschuss
Q11: Fallwild
Q12: Verkehrsverlust
A37: Gesamt | D37: =SUM(D11:D36) -> 0 | E37: =SUM(E11:E36) -> 0 | F37: =SUM(F11:F36) -> 0 | G37: =SUM(G11:G36) -> 0 | H37: =SUM(H11:H36) -> 0 | I37: =SUM(I11:I36) -> 0 | J37: =SUM(J11:J36) -> 0 | K37: =SUM(K11:K36) -> 0
A38: davon Fallwild | D38: =SUM((SUMIF(L11:L36,"Fallwild",D11:D36))+(SUMIF(L11:L36,"Verkehrsverlust",D11:D36))) -> 0 | E38: =SUM((SUMIF(L11:L36,"Fallwild",E11:E36))+(SUMIF(L11:L36,"Verkehrsverlust",E11:E36))) -> 0 | F38: =SUM((SUMIF(L11:L36,"Fallwild",F11:F36))+(SUMIF(L11:L36,"Verkehrsverlust",F11:F36))) -> 0 | G38: =SUM((SUMIF(L11:L36,"Fallwild",G11:G36))+(SUMIF(L11:L36,"Verkehrsverlust",G11:G36))) -> 0 | H38: =SUM((SUMIF(L11:L36,"Fallwild",H11:H36))+(SUMIF(L11:L36,"Verkehrsverlust",H11:H36))) -> 0 | I38: =SUM((SUMIF(L11:L36,"Fallwild",I11:I36))+(SUMIF(L11:L36,"Verkehrsverlust",I11:I36))) -> 0 | J38: =SUM((SUMIF(L11:L36,"Fallwild",J11:J36))+(SUMIF(L11:L36,"Verkehrsverlust",J11:J36))) -> 0 | K38: =SUM((SUMIF(L11:L36,"Fallwild",K11:K36))+(SUMIF(L11:L36,"Verkehrsverlust",K11:K36))) -> 0
A39: davon Verkehrsverluste | D39: =SUMIF(L11:L36,"Verkehrsverlust",D11:D36) -> 0 | E39: =SUMIF(L11:L36,"Verkehrsverlust",E11:E36) -> 0 | F39: =SUMIF(L11:L36,"Verkehrsverlust",F11:F36) -> 0 | G39: =SUMIF(L11:L36,"Verkehrsverlust",G11:G36) -> 0 | H39: =SUMIF(L11:L36,"Verkehrsverlust",H11:H36) -> 0 | I39: =SUMIF(L11:L36,"Verkehrsverlust",I11:I36) -> 0 | J39: =SUMIF(L11:L36,"Verkehrsverlust",J11:J36) -> 0 | K39: =SUMIF(L11:L36,"Verkehrsverlust",K11:K36) -> 0

Sheet Sikawild
A1: Jagdbezirk: | C1: ='Streckenliste Vorderseite'!A9 -> 0
A2: Jagdjahr: | C2: ='Streckenliste Vorderseite'!K2 -> 2025/2026
A4: Lfd. Nr. | B4: Datum* des Abschusses | C4: Gewicht* in kg | D4: Wildart (Geschlecht und Klasse gemäß Anlage 1 zu § 21 DVO LJG-NRW)
D5: Sikawild | M5: Bemerkungen*
D6: Hirsche | M6: (z. B. Jagdart, Erleger, Verwendung, Erlegung kranken Wildes außerhalb der Jagdzeit, Art des Fallwildes (Straßenverkehr etc.)) * Bitte unbedingt mit ausfüllen!
D7: 1 | E7: 2 | F7: 3 | G7: 4 | H7: 5 | I7: 5 | J7: 4 | K7: 3
D8: Alte Hirsche | E8: Mittelalte Hirsche | F8: Junge Hirsche | G8: Jährlinge | H8: Hirschkälber | I8: Wildkälber | J8: Schmaltiere | K8: Alttiere | L8: Fallwild/Verkehrsverlust
A10: Festgesetzter Abschuss
Q11: Fallwild
A37: Gesamt | D37: =SUM(D11:D36) -> 0 | E37: =SUM(E11:E36) -> 0 | F37: =SUM(F11:F36) -> 0 | G37: =SUM(G11:G36) -> 0 | H37: =SUM(H11:H36) -> 0 | I37: =SUM(I11:I36) -> 0 | J37: =SUM(J11:J36) -> 0 | K37: =SUM(K11:K36) -> 0
A38: davon Fallwild | D38: =SUM((SUMIF(L11:L36,"Fallwild",D11:D36))+(SUMIF(L11:L36,"Verkehrsverlust",D11:D36))) -> 0 | E38: =SUM((SUMIF(L11:L36,"Fallwild",E11:E36))+(SUMIF(L11:L36,"Verkehrsverlust",E11:E36))) -> 0 | F38: =SUM((SUMIF(L11:L36,"Fallwild",F11:F36))+(SUMIF(L11:L36,"Verkehrsverlust",F11:F36))) -> 0 | G38: =SUM((SUMIF(L11:L36,"Fallwild",G11:G36))+(SUMIF(L11:L36,"Verkehrsverlust",G11:G36))) -> 0 | H38: =SUM((SUMIF(L11:L36,"Fallwild",H11:H36))+(SUMIF(L11:L36,"Verkehrsverlust",H11:H36))) -> 0 | I38: =SUM((SUMIF(L11:L36,"Fallwild",I11:I36))+(SUMIF(L11:L36,"Verkehrsverlust",I11:I36))) -> 0 | J38: =SUM((SUMIF(L11:L36,"Fallwild",J11:J36))+(SUMIF(L11:L36,"Verkehrsverlust",J11:J36))) -> 0 | K38: =SUM((SUMIF(L11:L36,"Fallwild",K11:K36))+(SUMIF(L11:L36,"Verkehrsverlust",K11:K36))) -> 0
A39: davon Verkehrsverluste | D39: =SUMIF(L11:L36,"Verkehrsverlust",D11:D36) -> 0 | E39: =SUMIF(L11:L36,"Verkehrsverlust",E11:E36) -> 0 | F39: =SUMIF(L11:L36,"Verkehrsverlust",F11:F36) -> 0 | G39: =SUMIF(L11:L36,"Verkehrsverlust",G11:G36) -> 0 | H39: =SUMIF(L11:L36,"Verkehrsverlust",H11:H36) -> 0 | I39: =SUMIF(L11:L36,"Verkehrsverlust",I11:I36) -> 0 | J39: =SUMIF(L11:L36,"Verkehrsverlust",J11:J36) -> 0 | K39: =SUMIF(L11:L36,"Verkehrsverlust",K11:K36) -> 0

Sheet Damwild
A1: Jagdbezirk: | C1: ='Streckenliste Vorderseite'!A9 -> 0
A2: Jagdjahr: | C2: ='Streckenliste Vorderseite'!K2 -> 2025/2026
A4: Lfd. Nr. | B4: Datum* des Abschusses | C4: Gewicht* in kg | D4: Wildart (Geschlecht und Klasse gemäß Anlage 1 zu § 21 DVO LJG-NRW)
D5: Damwild | M5: Bemerkungen*
D6: Hirsche | M6: (z. B. Jagdart, Erleger, Verwendung, Erlegung kranken Wildes außerhalb der Jagdzeit, Art des Fallwildes (Straßenverkehr etc.)) * Bitte unbedingt mit ausfüllen!
D7: 1 | E7: 2 | F7: 3 | G7: 4 | H7: 5 | I7: 5 | J7: 4 | K7: 3
D8: Alte Hirsche | E8: Mittelalte Hirsche | F8: Junge Hirsche | G8: Jährlinge | H8: Hirschkälber | I8: Wildkälber | J8: Schmaltiere | K8: Alttiere | L8: Fallwild/Verkehrsverlust
A10: Festgesetzter Abschuss
Q11: Fallwild
Q12: Verkehrsverlust
A37: Gesamt | D37: =SUM(D11:D36) -> 0 | E37: =SUM(E11:E36) -> 0 | F37: =SUM(F11:F36) -> 0 | G37: =SUM(G11:G36) -> 0 | H37: =SUM(H11:H36) -> 0 | I37: =SUM(I11:I36) -> 0 | J37: =SUM(J11:J36) -> 0 | K37: =SUM(K11:K36) -> 0
A38: davon Fallwild | D38: =SUM((SUMIF(L11:L36,"Fallwild",D11:D36))+(SUMIF(L11:L36,"Verkehrsverlust",D11:D36))) -> 0 | E38: =SUM((SUMIF(L11:L36,"Fallwild",E11:E36))+(SUMIF(L11:L36,"Verkehrsverlust",E11:E36))) -> 0 | F38: =SUM((SUMIF(L11:L36,"Fallwild",F11:F36))+(SUMIF(L11:L36,"Verkehrsverlust",F11:F36))) -> 0 | G38: =SUM((SUMIF(L11:L36,"Fallwild",G11:G36))+(SUMIF(L11:L36,"Verkehrsverlust",G11:G36))) -> 0 | H38: =SUM((SUMIF(L11:L36,"Fallwild",H11:H36))+(SUMIF(L11:L36,"Verkehrsverlust",H11:H36))) -> 0 | I38: =SUM((SUMIF(L11:L36,"Fallwild",I11:I36))+(SUMIF(L11:L36,"Verkehrsverlust",I11:I36))) -> 0 | J38: =SUM((SUMIF(L11:L36,"Fallwild",J11:J36))+(SUMIF(L11:L36,"Verkehrsverlust",J11:J36))) -> 0 | K38: =SUM((SUMIF(L11:L36,"Fallwild",K11:K36))+(SUMIF(L11:L36,"Verkehrsverlust",K11:K36))) -> 0
A39: davon Verkehrsverluste | D39: =SUMIF(L11:L36,"Verkehrsverlust",D11:D36) -> 0 | E39: =SUMIF(L11:L36,"Verkehrsverlust",E11:E36) -> 0 | F39: =SUMIF(L11:L36,"Verkehrsverlust",F11:F36) -> 0 | G39: =SUMIF(L11:L36,"Verkehrsverlust",G11:G36) -> 0 | H39: =SUMIF(L11:L36,"Verkehrsverlust",H11:H36) -> 0 | I39: =SUMIF(L11:L36,"Verkehrsverlust",I11:I36) -> 0 | J39: =SUMIF(L11:L36,"Verkehrsverlust",J11:J36) -> 0 | K39: =SUMIF(L11:L36,"Verkehrsverlust",K11:K36) -> 0

Sheet Muffelwild
A1: Jagdbezirk: | C1: ='Streckenliste Vorderseite'!A9 -> 0
A2: Jagdjahr: | C2: ='Streckenliste Vorderseite'!K2 -> 2025/2026
A4: Lfd. Nr. | B4: Datum* des Abschusses | C4: Gewicht* in kg | D4: Wildart (Geschlecht und Klasse gemäß Anlage 1 zu § 21 DVO LJG-NRW)
D5: Muffelwild | L5: Bemerkungen*
D6: Widder | L6: (z. B. Jagdart, Erleger, Verwendung, Erlegung kranken Wildes außerhalb der Jagdzeit, Art des Fallwildes (Straßenverkehr etc.)) * Bitte unbedingt mit ausfüllen!
D7: 1 | E7: 2 | F7: 4 | G7: 5 | H7: 5 | I7: 4 | J7: 3
D8: Alte Widder | E8: Mehrjährige Widder | F8: Einjährige Widder | G8: Widderlämmer | H8: Schmallämmer | I8: Schmalschafe | J8: Schafe | K8: Fallwild/Verkehrsverlust
A9: Festgesetzer Abschuss
P11: Fallwild
P12: Verkehrsverlust
A32: Gesamt | D32: =SUM(D10:D31) -> 0 | E32: =SUM(E10:E31) -> 0 | F32: =SUM(F10:F31) -> 0 | G32: =SUM(G10:G31) -> 0 | H32: =SUM(H10:H31) -> 0 | I32: =SUM(I10:I31) -> 0 | J32: =SUM(J10:J31) -> 0
A33: davon Fallwild | D33: =SUM((SUMIF(K10:K31,"Fallwild",D11:D31))+(SUMIF(K10:K31,"Verkehrsverlust",D11:D31))) -> 0 | E33: =SUM((SUMIF(K10:K31,"Fallwild",E11:E31))+(SUMIF(K10:K31,"Verkehrsverlust",E11:E31))) -> 0 | F33: =SUM((SUMIF(K10:K31,"Fallwild",F11:F31))+(SUMIF(K10:K31,"Verkehrsverlust",F11:F31))) -> 0 | G33: =SUM((SUMIF(K10:K31,"Fallwild",G11:G31))+(SUMIF(K10:K31,"Verkehrsverlust",G11:G31))) -> 0 | H33: =SUM((SUMIF(K10:K31,"Fallwild",H11:H31))+(SUMIF(K10:K31,"Verkehrsverlust",H11:H31))) -> 0 | I33: =SUM((SUMIF(K10:K31,"Fallwild",I11:I31))+(SUMIF(K10:K31,"Verkehrsverlust",I11:I31))) -> 0 | J33: =SUM((SUMIF(K10:K31,"Fallwild",J11:J31))+(SUMIF(K10:K31,"Verkehrsverlust",J11:J31))) -> 0
A34: davon Verkehrsverluste | D34: =SUMIF(K10:K31,"Verkehrsverlust",D11:D31) -> 0 | E34: =SUMIF(K10:K31,"Verkehrsverlust",E11:E31) -> 0 | F34: =SUMIF(K10:K31,"Verkehrsverlust",F11:F31) -> 0 | G34: =SUMIF(K10:K31,"Verkehrsverlust",G11:G31) -> 0 | H34: =SUMIF(K10:K31,"Verkehrsverlust",H11:H31) -> 0 | I34: =SUMIF(K10:K31,"Verkehrsverlust",I11:I31) -> 0 | J34: =SUMIF(K10:K31,"Verkehrsverlust",J11:J31) -> 0

Sheet Rehwild
A1: Jagdbezirk: | C1: ='Streckenliste Vorderseite'!A9 -> 0
A2: Jagdjahr: | C2: ='Streckenliste Vorderseite'!K2 -> 2025/2026
A4: Lfd. Nr. | B4: Datum* des Abschusses | C4: Gewicht* in kg | D4: Wildart (Geschlecht und Klasse gemäß Anlage 1 zu § 21 DVO LJG-NRW)
D5: Rehwild | L5: Bemerkungen*
D6: Böcke | L6: (z. B. Jagdart, Erleger, Verwendung, Erlegung kranken Wildes außerhalb der Jagdzeit, Art des Fallwildes (Straßenverkehr etc.)) * Bitte unbedingt mit ausfüllen!
D7: 1 | E7: 2 | F7: 4 | G7: 5 | H7: 5 | I7: 4 | J7: 3
D8: Alte Rehböcke | E8: Mehrjährige Rehböcke | F8: Jährlinge | G8: Bockkitze | H8: Rickenkitze | I8: Schmalrehe | J8: Ricken | K8: Fallwild/Verkehrsverlust
P11: Fallwild
P12: Verkehrsverlust
A54: Gesamt | D54: =SUM(D9:D53) -> 0 | E54: =SUM(E9:E53) -> 0 | F54: =SUM(F9:F53) -> 0 | G54: =SUM(G9:G53) -> 0 | H54: =SUM(H9:H53) -> 0 | I54: =SUM(I9:I53) -> 0 | J54: =SUM(J9:J53) -> 0
A55: davon Fallwild | D55: =SUM((SUMIF(K9:K53,"Fallwild",D9:D53))+(SUMIF(K9:K53,"Verkehrsverlust",D9:D53))) -> 0 | E55: =SUM((SUMIF(K9:K53,"Fallwild",E9:E53))+(SUMIF(K9:K53,"Verkehrsverlust",E9:E53))) -> 0 | F55: =SUM((SUMIF(K9:K53,"Fallwild",F9:F53))+(SUMIF(K9:K53,"Verkehrsverlust",F9:F53))) -> 0 | G55: =SUM((SUMIF(K9:K53,"Fallwild",G9:G53))+(SUMIF(K9:K53,"Verkehrsverlust",G9:G53))) -> 0 | H55: =SUM((SUMIF(K9:K53,"Fallwild",H9:H53))+(SUMIF(K9:K53,"Verkehrsverlust",H9:H53))) -> 0 | I55: =SUM((SUMIF(K9:K53,"Fallwild",I9:I53))+(SUMIF(K9:K53,"Verkehrsverlust",I9:I53))) -> 0 | J55: =SUM((SUMIF(K9:K53,"Fallwild",J9:J53))+(SUMIF(K9:K53,"Verkehrsverlust",J9:J53))) -> 0
A56: davon Verkehrsverluste | D56: =SUMIF(K9:K53,"Verkehrsverlust",D9:D53) -> 0 | E56: =SUMIF(K9:K53,"Verkehrsverlust",E9:E53) -> 0 | F56: =SUMIF(K9:K53,"Verkehrsverlust",F9:F53) -> 0 | G56: =SUMIF(K9:K53,"Verkehrsverlust",G9:G53) -> 0 | H56: =SUMIF(K9:K53,"Verkehrsverlust",H9:H53) -> 0 | I56: =SUMIF(K9:K53,"Verkehrsverlust",I9:I53) -> 0 | J56: =SUMIF(K9:K53,"Verkehrsverlust",J9:J53) -> 0

Sheet Schwarzwild
A1: Jagdbezirk: | C1: ='Streckenliste Vorderseite'!A9 -> 0
A2: Jagdjahr: | C2: ='Streckenliste Vorderseite'!K2 -> 2025/2026
A4: Lfd. Nr. | B4: Datum* des Abschusses | C4: Gewicht* in kg | D4: Wildart (Geschlecht und Klasse gemäß Anlage 1 zu § 21 DVO LJG-NRW)
D5: Schwarzwild | K5: Bemerkungen*
D6: Keiler | K6: (z. B. Jagdart, Erleger, Verwendung, Erlegung kranken Wildes außerhalb der Jagdzeit, Art des Fallwildes (Straßenverkehr etc.)) * Bitte unbedingt mit ausfüllen!
D7: 1 | E7: 4 | F7: 5 | G7: 5 | H7: 4 | I7: 3
D8: Keiler | E8: Überläuferkeiler | F8: Frischlingskeiler | G8: Frischlingsbachen | H8: Überläuferbachen | I8: Bachen | J8: Fallwild/Verkehrsverlust
O10: Fallwild
O11: Verkehrsverlust
A54: Gesamt | D54: =SUM(D9:D53) -> 0 | E54: =SUM(E9:E53) -> 0 | F54: =SUM(F9:F53) -> 0 | G54: =SUM(G9:G53) -> 0 | H54: =SUM(H9:H53) -> 0 | I54: =SUM(I9:I53) -> 0
A55: davon Fallwild | D55: =SUM((SUMIF(J9:J53,"Fallwild",D9:D53))+(SUMIF(J9:J53,"Verkehrsverlust",D9:D53))) -> 0 | E55: =SUM((SUMIF(J9:J53,"Fallwild",E9:E53))+(SUMIF(J9:J53,"Verkehrsverlust",E9:E53))) -> 0 | F55: =SUM((SUMIF(J9:J53,"Fallwild",F9:F53))+(SUMIF(J9:J53,"Verkehrsverlust",F9:F53))) -> 0 | G55: =SUM((SUMIF(J9:J53,"Fallwild",G9:G53))+(SUMIF(J9:J53,"Verkehrsverlust",G9:G53))) -> 0 | H55: =SUM((SUMIF(J9:J53,"Fallwild",H9:H53))+(SUMIF(J9:J53,"Verkehrsverlust",H9:H53))) -> 0 | I55: =SUM((SUMIF(J9:J53,"Fallwild",I9:I53))+(SUMIF(J9:J53,"Verkehrsverlust",I9:I53))) -> 0
A56: davon Verkehrsverluste | D56: =SUMIF(J9:J53,"Verkehrsverlust",D9:D53) -> 0 | E56: =SUMIF(J9:J53,"Verkehrsverlust",E9:E53) -> 0 | F56: =SUMIF(J9:J53,"Verkehrsverlust",F9:F53) -> 0 | G56: =SUMIF(J9:J53,"Verkehrsverlust",G9:G53) -> 0 | H56: =SUMIF(J9:J53,"Verkehrsverlust",H9:H53) -> 0 | I56: =SUMIF(J9:J53,"Verkehrsverlust",I9:I53) -> 0

Sheet Streckenliste Rückseite
A1: Jagdbezirk: | C1: ='Streckenliste Vorderseite'!A9 -> 0
A2: Jagdjahr: | C2: ='Streckenliste Vorderseite'!K2 -> 2025/2026
A4: Wildart | C4: Anzahl | H4: Jagdstrecke
C5: Abschuss | D5: Fangjagd | E5: Baujagd | F5: Fallwild | G5: Verkehrs- verluste | H5: Gesamt | I5: Anzahl Fallwild von Gesamt | J5: Anzahl Verkehrs- verluste vom Fallwild | K5: Bemerkungen
A7: Sonstiges Haarwild | B7: Wildkatzen | H7: =SUM(G7,F7) -> 0 | I7: =SUM(F7,G7) -> 0 | J7: =SUM(G7) -> 0
B8: Baummarder | H8: =SUM(G8,F8) -> 0 | I8: =SUM(F8,G8) -> 0 | J8: =SUM(G8) -> 0
B9: Fischotter | H9: =SUM(G9,F9) -> 0 | I9: =SUM(F9,G9) -> 0 | J9: =SUM(G9) -> 0
B10: Mauswiesel | H10: =SUM(G10,F10) -> 0 | I10: =SUM(G10,F10) -> 0 | J10: =SUM(G10) -> 0
B11: Feldhasen | H11: =SUM(C11,F11:G11) -> 0 | I11: =SUM(F11:G11) -> 0 | J11: =SUM(G11) -> 0
B12: Wildkaninchen | H12: =SUM(C12,F12:G12) -> 0 | I12: =SUM(F12:G12) -> 0 | J12: =SUM(G12) -> 0
B13: Dachse | H13: =SUM(C13:D13,F13:G13) -> 0 | I13: =SUM(F13:G13) -> 0 | J13: =SUM(G13) -> 0
B14: Füchse* | H14: =SUM(C14:D14,E14,F14:G14) -> 0 | I14: =SUM(F14:G14) -> 0 | J14: =SUM(G14) -> 0
B15: Steinmarder | H15: =SUM(C15:D15,F15:G15) -> 0 | I15: =SUM(F15:G15) -> 0 | J15: =SUM(G15) -> 0
B16: Iltisse | H16: =SUM(C16:D16,F16:G16) -> 0 | I16: =SUM(F16:G16) -> 0 | J16: =SUM(G16) -> 0
B17: Hermeline | H17: =SUM(C17:D17,F17:G17) -> 0 | I17: =SUM(F17:G17) -> 0 | J17: =SUM(G17) -> 0
B18: Waschbären | H18: =SUM(C18:D18,F18:G18) -> 0 | I18: =SUM(F18:G18) -> 0 | J18: =SUM(G18) -> 0
B19: Marderhunde | H19: =SUM(C19:D19,F19:G19) -> 0 | I19: =SUM(F19:G19) -> 0 | J19: =SUM(G19) -> 0
B20: Minke | H20: =SUM(C20:D20,F20:G20) -> 0 | I20: =SUM(F20:G20) -> 0 | J20: =SUM(G20) -> 0
A21: Federwild | B21: Rebhühner
B22: Fasanen
B23: Wachteln
B24: Haselhühner
B25: Wildtruthühner
B26: Ringeltauben
B27: Türkentauben
B28: übrige Wildtauben
B29: Höckerschwäne
B30: Graugänse
B31: Kanadagänse
B32: Nilgänse
B33: übrige Wildgänse
... B57: Elstern
A58: Tierart | H58: Gesamt | I58: Anzahl Totfunde von Gesamt | J58: Anzahl Verkehrs- verluste von Totfunde | K58: Bemerkungen
A59: Sonstiges | B59: Wildernde Hunde
B60: Nutrias (Sumpfbiber)
B61: Bisam
B62: Kormorane
A63: * inklusive gesprengter geschossener Füchse

Sheet Streckenmeldung Vorderseite
A1: Kreis Minden-Lübbecke Der Landrat Rechts und Ordnungsamt Portastraße 13 32423 Minden
I2: Jagdjahr | K2: ='Streckenliste Vorderseite'!K2 -> 2025/2026
A5: Jährliche Streckenmeldung
A7: ='Streckenliste Vorderseite'!A7 -> 0 | B7: Eigenjagdbezirk | C7: ='Streckenliste Vorderseite'!C7 -> 0 | D7: Gemeinschaftlicher Jagdbezirk
A8: Name des Jagdbezirks
A9: ='Streckenliste Vorderseite'!A9 -> 0
A10: Jagdausübungsberechtigte(r)
A11: Name, Vorname, Anschrift
A12: ='Streckenliste Vorderseite'!A12 -> 0
A13: Name, Vorname, Anschrift
A14: ='Streckenliste Vorderseite'!A14 -> 0
A15: Name, Vorname, Anschrift
A16: ='Streckenliste Vorderseite'!A16 -> 0
A17: Name, Vorname, Anschrift
A18: ='Streckenliste Vorderseite'!A18 -> 0
A19: Name, Vorname, Anschrift
A20: ='Streckenliste Vorderseite'!A20 -> 0
A21: Name, Vorname, Anschrift
A22: ='Streckenliste Vorderseite'!A22 -> 0
A23: Name, Vorname, Anschrift
A24: ='Streckenliste Vorderseite'!A24 -> 0
A25: Name, Vorname, Anschrift
A26: ='Streckenliste Vorderseite'!A26 -> 0
A28: Größe des Jagdbezirks | C28: ='Streckenliste Vorderseite'!C28 -> 0 | E28: ha | F28: davon jagdlich nutzbare Fläche | J28: ='Streckenliste Vorderseite'!J28 -> 0 | M28: ha

Sheet Streckenmeldung Rückseite
A1: Jagdbezirk: | D1: ='Streckenliste Vorderseite'!A9 -> 0
A2: Jagdjahr: | D2: ='Streckenliste Vorderseite'!K2 -> 2025/2026
A4: Wildart Geschlecht und Klasse** ** gemäß Anlage 1 zu § 21 DVO LJG-NRW | E4: festge- setzter Abschuss | F4: Jagdstrecke | I4: Wildart * inkl. gesprengter geschossener Füchse | K4: Anzahl | P4: Jagdstrecke
F5: Gesamt | G5: Anzahl Fallwild von Gesamt | H5: Anzahl Verkehrs- verluste vom Fallwild | K5: Abschuss | L5: Fangjagd | M5: Baujagd* | N5: Fallwild | O5: Verkehrs- verluste | P5: Gesamt | Q5: Anzahl Fallwild von Gesamt | R5: Anzahl Verkehrs- verluste vom Fallwild
A6: Rotwild | B6: Hirsche | C6: 1 | D6: Alte Hirsche | E6: =Rotwild!D10 -> 0 | F6: =Rotwild!D37 -> 0 | G6: =Rotwild!D38 -> 0 | H6: =Rotwild!D39 -> 0 | I6: sonstiges Haarwild | J6: Wildkatzen | N6: =SUM('Streckenliste Rückseite'!F7) -> 0 | O6: =SUM('Streckenliste Rückseite'!G7) -> 0 | P6: =SUM('Streckenliste Rückseite'!H7) -> 0 | Q6: =SUM('Streckenliste Rückseite'!I7) -> 0 | R6: =SUM('Streckenliste Rückseite'!J7) -> 0
C7: 2 | D7: Mittelalte Hirsche | E7: =Rotwild!E10 -> 0 | F7: =Rotwild!E37 -> 0 | G7: =Rotwild!E38 -> 0 | H7: =Rotwild!E39 -> 0 | J7: Baummarder | N7: =SUM('Streckenliste Rückseite'!F8) -> 0 | O7: =SUM('Streckenliste Rückseite'!G8) -> 0 | P7: =SUM('Streckenliste Rückseite'!H8) -> 0 | Q7: =SUM('Streckenliste Rückseite'!I8) -> 0 | R7: =SUM('Streckenliste Rückseite'!J8) -> 0
C8: 3 | D8: Junge Hirsche | E8: =Rotwild!F10 -> 0 | F8: =Rotwild!F37 -> 0 | G8: =Rotwild!F38 -> 0 | H8: =Rotwild!F39 -> 0 | J8: Fischotter | N8: =SUM('Streckenliste Rückseite'!F9) -> 0 | O8: =SUM('Streckenliste Rückseite'!G9) -> 0 | P8: =SUM('Streckenliste Rückseite'!H9) -> 0 | Q8: =SUM('Streckenliste Rückseite'!I9) -> 0 | R8: =SUM('Streckenliste Rückseite'!J9) -> 0
C9: 4 | D9: Jährlinge | E9: =Rotwild!G10 -> 0 | F9: =Rotwild!G37 -> 0 | G9: =Rotwild!G38 -> 0 | H9: =Rotwild!G39 -> 0 | J9: Mauswiesel | N9: =SUM('Streckenliste Rückseite'!F10) -> 0 | O9: =SUM('Streckenliste Rückseite'!G10) -> 0 | P9: =SUM('Streckenliste Rückseite'!H10) -> 0 | Q9: =SUM('Streckenliste Rückseite'!I10) -> 0 | R9: =SUM('Streckenliste Rückseite'!J10) -> 0
C10: 5 | D10: Hirschkälber | E10: =Rotwild!H10 -> 0 | F10: =Rotwild!H37 -> 0 | G10: =Rotwild!H38 -> 0 | H10: =Rotwild!H39 -> 0 | J10: Feldhasen | K10: =SUM('Streckenliste Rückseite'!C11) -> 0 | N10: =SUM('Streckenliste Rückseite'!F11) -> 0 | O10: =SUM('Streckenliste Rückseite'!G11) -> 0 | P10: =SUM('Streckenliste Rückseite'!H11) -> 0 | Q10: =SUM('Streckenliste Rückseite'!I11) -> 0 | R10: =SUM('Streckenliste Rückseite'!J11) -> 0
C11: 5 | D11: Wildkälber | F11: =Rotwild!I37 -> 0 | G11: =Rotwild!I38 -> 0 | H11: =Rotwild!I39 -> 0 | J11: Wildkaninchen | K11: =SUM('Streckenliste Rückseite'!C12) -> 0 | N11: =SUM('Streckenliste Rückseite'!F12) -> 0 | O11: =SUM('Streckenliste Rückseite'!G12) -> 0 | P11: =SUM('Streckenliste Rückseite'!H12) -> 0 | Q11: =SUM('Streckenliste Rückseite'!I12) -> 0 | R11: =SUM('Streckenliste Rückseite'!J12) -> 0
C12: 4 | D12: Schmaltiere | E12: =Rotwild!J10 -> 0 | F12: =Rotwild!J37 -> 0 | G12: =Rotwild!J38 -> 0 | H12: =Rotwild!J39 -> 0 | J12: Dachse | K12: =SUM('Streckenliste Rückseite'!C13) -> 0 | L12: =SUM('Streckenliste Rückseite'!D13) -> 0 | N12: =SUM('Streckenliste Rückseite'!F13) -> 0 | O12: =SUM('Streckenliste Rückseite'!G13) -> 0 | P12: =SUM('Streckenliste Rückseite'!H13) -> 0 | Q12: =SUM('Streckenliste Rückseite'!I13) -> 0 | R12: =SUM('Streckenliste Rückseite'!J13) -> 0
C13: 3 | D13: Alttiere | E13: =Rotwild!K10 -> 0 | F13: =Rotwild!K37 -> 0 | G13: =Rotwild!K38 -> 0 | H13: =Rotwild!K39 -> 0 | J13: Füchse | K13: =SUM('Streckenliste Rückseite'!C14) -> 0 | L13: =SUM('Streckenliste Rückseite'!D14) -> 0 | M13: =SUM('Streckenliste Rückseite'!E14) -> 0 | N13: =SUM('Streckenliste Rückseite'!F14) -> 0 | O13: =SUM('Streckenliste Rückseite'!G14) -> 0 | P13: =SUM('Streckenliste Rückseite'!H14) -> 0 | Q13: =SUM('Streckenliste Rückseite'!I14) -> 0 | R13: =SUM('Streckenliste Rückseite'!J14) -> 0
D14: Sa. männl. Rotwild | E14: =SUM(E6:E11) -> 0 | F14: =SUM(F6:F10) -> 0 | G14: =SUM(G6:G10) -> 0 | H14: =SUM(H6:H10) -> 0 | J14: Steinmarder | K14: =SUM('Streckenliste Rückseite'!C15) -> 0 | L14: =SUM('Streckenliste Rückseite'!D15) -> 0 | N14: =SUM('Streckenliste Rückseite'!F15) -> 0 | O14: =SUM('Streckenliste Rückseite'!G15) -> 0 | P14: =SUM('Streckenliste Rückseite'!H15) -> 0 | Q14: =SUM('Streckenliste Rückseite'!I15) -> 0 | R14: =SUM('Streckenliste Rückseite'!J15) -> 0
D15: Sa. weibl. Rotwild | E15: =SUM(E12:E13) -> 0 | F15: =SUM(F11:F13) -> 0 | G15: =SUM(G11:G13) -> 0 | H15: =SUM(H11:H13) -> 0 | J15: Iltisse | K15: =SUM('Streckenliste Rückseite'!C16) -> 0 | L15: =SUM('Streckenliste Rückseite'!D16) -> 0 | N15: =SUM('Streckenliste Rückseite'!F16) -> 0 | O15: =SUM('Streckenliste Rückseite'!G16) -> 0 | P15: =SUM('Streckenliste Rückseite'!H16) -> 0 | Q15: =SUM('Streckenliste Rückseite'!I16) -> 0 | R15: =SUM('Streckenliste Rückseite'!J16) -> 0
D16: Sa. Rotwild | E16: =SUM(E14:E15) -> 0 | F16: =SUM(F14:F15) -> 0 | G16: =SUM(G14:G15) -> 0 | H16: =SUM(H14:H15) -> 0 | J16: Hermeline | K16: =SUM('Streckenliste Rückseite'!C17) -> 0 | L16: =SUM('Streckenliste Rückseite'!D17) -> 0 | N16: =SUM('Streckenliste Rückseite'!F17) -> 0 | O16: =SUM('Streckenliste Rückseite'!G17) -> 0 | P16: =SUM('Streckenliste Rückseite'!H17) -> 0 | Q16: =SUM('Streckenliste Rückseite'!I17) -> 0 | R16: =SUM('Streckenliste Rückseite'!J17) -> 0
A17: Sikawild | B17: Hirsche | C17: 1 | D17: Alte Hirsche | F17: =Sikawild!D37 -> 0 | G17: =Sikawild!D38 -> 0 | H17: =Sikawild!D39 -> 0 | J17: Waschbären | K17: =SUM('Streckenliste Rückseite'!C18) -> 0 | L17: =SUM('Streckenliste Rückseite'!D18) -> 0 | N17: =SUM('Streckenliste Rückseite'!F18) -> 0 | O17: =SUM('Streckenliste Rückseite'!G18) -> 0 | P17: =SUM('Streckenliste Rückseite'!H18) -> 0 | Q17: =SUM('Streckenliste Rückseite'!I18) -> 0 | R17: =SUM('Streckenliste Rückseite'!J18) -> 0
C18: 2 | D18: Mittelalte Hirsche | F18: =Sikawild!E37 -> 0 | G18: =Sikawild!E38 -> 0 | H18: =Sikawild!E39 -> 0 | J18: Marderhunde | K18: =SUM('Streckenliste Rückseite'!C19) -> 0 | L18: =SUM('Streckenliste Rückseite'!D19) -> 0 | N18: =SUM('Streckenliste Rückseite'!F19) -> 0 | O18: =SUM('Streckenliste Rückseite'!G19) -> 0 | P18: =SUM('Streckenliste Rückseite'!H19) -> 0 | Q18: =SUM('Streckenliste Rückseite'!I19) -> 0 | R18: =SUM('Streckenliste Rückseite'!J19) -> 0
C19: 3 | D19: Junge Hirsche | F19: =Sikawild!F37 -> 0 | G19: =Sikawild!F38 -> 0 | H19: =Sikawild!F39 -> 0 | J19: Minke | K19: =SUM('Streckenliste Rückseite'!C20) -> 0 | L19: =SUM('Streckenliste Rückseite'!D20) -> 0 | N19: =SUM('Streckenliste Rückseite'!F20) -> 0 | O19: =SUM('Streckenliste Rückseite'!G20) -> 0 | P19: =SUM('Streckenliste Rückseite'!H20) -> 0 | Q19: =SUM('Streckenliste Rückseite'!I20) -> 0 | R19: =SUM('Streckenliste Rückseite'!J20) -> 0
C20: 4 | D20: Jährlinge | F20: =Sikawild!G37 -> 0 | G20: =Sikawild!G38 -> 0 | H20: =Sikawild!G39 -> 0 | I20: Wildart | P20: Gesamt | Q20: Anzahl Fallwild von Gesamt | R20: Anzahl Verkehrs- verluste vom Fallwild
C21: 5 | D21: Hirschkälber | F21: =Sikawild!H37 -> 0 | G21: =Sikawild!H38 -> 0 | H21: =Sikawild!H39 -> 0
C22: 5 | D22: Wildkälber | F22: =Sikawild!I37 -> 0 | G22: =Sikawild!I38 -> 0 | H22: =Sikawild!I39 -> 0
C23: 4 | D23: Schmaltiere | F23: =Sikawild!J37 -> 0 | G23: =Sikawild!J38 -> 0 | H23: =Sikawild!J39 -> 0 | I23: Federwild | J23: Rebhühner | P23: =SUM('Streckenliste Rückseite'!H21) -> 0 | Q23: =SUM('Streckenliste Rückseite'!I21) -> 0 | R23: =SUM('Streckenliste Rückseite'!J21) -> 0
C24: 3 | D24: Alttiere | F24: =Sikawild!K37 -> 0 | G24: =Sikawild!K38 -> 0 | H24: =Sikawild!K39 -> 0 | J24: Fasanen | P24: =SUM('Streckenliste Rückseite'!H22) -> 0 | Q24: =SUM('Streckenliste Rückseite'!I22) -> 0 | R24: =SUM('Streckenliste Rückseite'!J22) -> 0
D25: Sa. männl. Sikawild | F25: =SUM(F17:F21) -> 0 | G25: =SUM(G17:G21) -> 0 | H25: =SUM(H17:H21) -> 0 | J25: Wachteln | P25: =SUM('Streckenliste Rückseite'!H23) -> 0 | Q25: =SUM('Streckenliste Rückseite'!I23) -> 0 | R25: =SUM('Streckenliste Rückseite'!J23) -> 0
D26: Sa. weibl. Sikawild | F26: =SUM(F22:F24) -> 0 | G26: =SUM(G22:G24) -> 0 | H26: =SUM(H22:H24) -> 0 | J26: Haselhühner | P26: =SUM('Streckenliste Rückseite'!H24) -> 0 | Q26: =SUM('Streckenliste Rückseite'!I24) -> 0 | R26: =SUM('Streckenliste Rückseite'!J24) -> 0
D27: Sa. Sikawild | F27: =SUM(F25:F26) -> 0 | G27: =SUM(G25:G26) -> 0 | H27: =SUM(H25:H26) -> 0 | J27: Wildtruthühner | P27: =SUM('Streckenliste Rückseite'!H25) -> 0 | Q27: =SUM('Streckenliste Rückseite'!I25) -> 0 | R27: =SUM('Streckenliste Rückseite'!J25) -> 0
A28: Damwild | B28: Hirsche | C28: 1 | D28: Alte Hirsche | E28: =Damwild!D10 -> 0 | F28: =Damwild!D37 -> 0 | G28: =Damwild!D38 -> 0 | H28: =Damwild!D39 -> 0 | J28: Ringeltauben | P28: =SUM('Streckenliste Rückseite'!H26) -> 0 | Q28: =SUM('Streckenliste Rückseite'!I26) -> 0 | R28: =SUM('Streckenliste Rückseite'!J26) -> 0
C29: 2 | D29: Mittelalte Hirsche | E29: =Damwild!E10 -> 0 | F29: =Damwild!E37 -> 0 | G29: =Damwild!E38 -> 0 | H29: =Damwild!E39 -> 0 | J29: Türkentauben | P29: =SUM('Streckenliste Rückseite'!H27) -> 0 | Q29: =SUM('Streckenliste Rückseite'!I27) -> 0 | R29: =SUM('Streckenliste Rückseite'!J27) -> 0
C30: 3 | D30: Junge Hirsche | E30: =Damwild!F10 -> 0 | F30: =Damwild!F37 -> 0 | G30: =Damwild!F38 -> 0 | H30: =Damwild!F39 -> 0 | J30: übrige Wildtauben | P30: =SUM('Streckenliste Rückseite'!H28) -> 0 | Q30: =SUM('Streckenliste Rückseite'!I28) -> 0 | R30: =SUM('Streckenliste Rückseite'!J28) -> 0
C31: 4 | D31: Jährlinge | E31: =Damwild!G10 -> 0 | F31: =Damwild!G37 -> 0 | G31: =Damwild!G38 -> 0 | H31: =Damwild!G39 -> 0 | J31: Höckerschwäne | P31: =SUM('Streckenliste Rückseite'!H29) -> 0 | Q31: =SUM('Streckenliste Rückseite'!I29) -> 0 | R31: =SUM('Streckenliste Rückseite'!J29) -> 0
C32: 5 | D32: Hirschkälber | E32: =Damwild!H10 -> 0 | F32: =Damwild!H37 -> 0 | G32: =Damwild!H38 -> 0 | H32: =Damwild!H39 -> 0 | J32: Graugänse | P32: =SUM('Streckenliste Rückseite'!H30) -> 0 | Q32: =SUM('Streckenliste Rückseite'!I30) -> 0 | R32: =SUM('Streckenliste Rückseite'!J30) -> 0
C33: 5 | D33: Wildkälber | F33: =Damwild!I37 -> 0 | G33: =Damwild!I38 -> 0 | H33: =Damwild!I39 -> 0 | J33: Kanadagänse | P33: =SUM('Streckenliste Rückseite'!H31) -> 0 | Q33: =SUM('Streckenliste Rückseite'!I31) -> 0 | R33: =SUM('Streckenliste Rückseite'!J31) -> 0
C34: 4 | D34: Schmaltiere | E34: =Damwild!J10 -> 0 | F34: =Damwild!J37 -> 0 | G34: =Damwild!J38 -> 0 | H34: =Damwild!J39 -> 0 | J34: Nilgänse | P34: =SUM('Streckenliste Rückseite'!H32) -> 0 | Q34: =SUM('Streckenliste Rückseite'!I32) -> 0 | R34: =SUM('Streckenliste Rückseite'!J32) -> 0
C35: 3 | D35: Alttiere | E35: =Damwild!K10 -> 0 | F35: =Damwild!K37 -> 0 | G35: =Damwild!K38 -> 0 | H35: =Damwild!K39 -> 0 | J35: übrige Wildgänse | P35: =SUM('Streckenliste Rückseite'!H33) -> 0 | Q35: =SUM('Streckenliste Rückseite'!I33) -> 0 | R35: =SUM('Streckenliste Rückseite'!J33) -> 0
D36: Sa. männl. Damwild | E36: =SUM(E28:E33) -> 0 | F36: =SUM(F28:F32) -> 0 | G36: =SUM(G28:G32) -> 0 | H36: =SUM(H28:H32) -> 0 | J36: Stockenten | P36: =SUM('Streckenliste Rückseite'!H34) -> 0 | Q36: =SUM('Streckenliste Rückseite'!I34) -> 0 | R36: =SUM('Streckenliste Rückseite'!J34) -> 0
D37: Sa. weibl. Damwild | E37: =SUM(E34:E35) -> 0 | F37: =SUM(F33:F35) -> 0 | G37: =SUM(G33:G35) -> 0 | H37: =SUM(H33:H35) -> 0 | J37: Krickenten | P37: =SUM('Streckenliste Rückseite'!H35) -> 0 | Q37: =SUM('Streckenliste Rückseite'!I35) -> 0 | R37: =SUM('Streckenliste Rückseite'!J35) -> 0
D38: Sa. Damwild | E38: =SUM(E36:E37) -> 0 | F38: =SUM(F36:F37) -> 0 | G38: =SUM(G36:G37) -> 0 | H38: =SUM(H36:H37) -> 0 | J38: Reiherenten | P38: =SUM('Streckenliste Rückseite'!H36) -> 0 | Q38: =SUM('Streckenliste Rückseite'!I36) -> 0 | R38: =SUM('Streckenliste Rückseite'!J36) -> 0
A39: Muffelwild | B39: Widder | C39: 1 | D39: Alte Widder | E39: =Muffelwild!D9 -> 0 | F39: =Muffelwild!D32 -> 0 | G39: =Muffelwild!D33 -> 0 | H39: =Muffelwild!D34 -> 0 | J39: Tafelenten | P39: =SUM('Streckenliste Rückseite'!H37) -> 0 | Q39: =SUM('Streckenliste Rückseite'!I37) -> 0 | R39: =SUM('Streckenliste Rückseite'!J37) -> 0
C40: 2 | D40: Mehrjährige Widder | E40: =Muffelwild!E9 -> 0 | F40: =Muffelwild!E32 -> 0 | G40: =Muffelwild!E33 -> 0 | H40: =Muffelwild!E34 -> 0 | J40: übrige Wildenten | P40: =SUM('Streckenliste Rückseite'!H38) -> 0 | Q40: =SUM('Streckenliste Rückseite'!I38) -> 0 | R40: =SUM('Streckenliste Rückseite'!J38) -> 0
C41: 4 | D41: Einjährige Widder | E41: =Muffelwild!F9 -> 0 | F41: =Muffelwild!F32 -> 0 | G41: =Muffelwild!F33 -> 0 | H41: =Muffelwild!F34 -> 0 | J41: Gänsesäger | P41: =SUM('Streckenliste Rückseite'!H39) -> 0 | Q41: =SUM('Streckenliste Rückseite'!I39) -> 0 | R41: =SUM('Streckenliste Rückseite'!J39) -> 0
C42: 5 | D42: Widderlämmer | E42: =Muffelwild!G9 -> 0 | F42: =Muffelwild!G32 -> 0 | G42: =Muffelwild!G33 -> 0 | H42: =Muffelwild!G34 -> 0 | J42: Waldschnepfen | P42: =SUM('Streckenliste Rückseite'!H40) -> 0 | Q42: =SUM('Streckenliste Rückseite'!I40) -> 0 | R42: =SUM('Streckenliste Rückseite'!J40) -> 0
C43: 5 | D43: Schmallämmer | E43: =Muffelwild!H9 -> 0 | F43: =Muffelwild!H32 -> 0 | G43: =Muffelwild!H33 -> 0 | H43: =Muffelwild!H34 -> 0 | J43: Blässhühner | P43: =SUM('Streckenliste Rückseite'!H41) -> 0 | Q43: =SUM('Streckenliste Rückseite'!I41) -> 0 | R43: =SUM('Streckenliste Rückseite'!J41) -> 0
C44: 4 | D44: Schmalschafe | E44: =Muffelwild!I9 -> 0 | F44: =Muffelwild!I32 -> 0 | G44: =Muffelwild!I33 -> 0 | H44: =Muffelwild!I34 -> 0 | J44: Lachmöwen | P44: =SUM('Streckenliste Rückseite'!H42) -> 0 | Q44: =SUM('Streckenliste Rückseite'!I42) -> 0 | R44: =SUM('Streckenliste Rückseite'!J42) -> 0
C45: 3 | D45: Schafe | E45: =Muffelwild!J9 -> 0 | F45: =Muffelwild!J32 -> 0 | G45: =Muffelwild!J33 -> 0 | H45: =Muffelwild!J34 -> 0 | J45: Silbermöwen | P45: =SUM('Streckenliste Rückseite'!H43) -> 0 | Q45: =SUM('Streckenliste Rückseite'!I43) -> 0 | R45: =SUM('Streckenliste Rückseite'!J43) -> 0
D46: Sa. männl. Muffelwild | E46: =SUM(E39:E42) -> 0 | F46: =SUM(F39:F42) -> 0 | G46: =SUM(G39:G42) -> 0 | H46: =SUM(H39:H42) -> 0 | J46: Heringsmöwen | P46: =SUM('Streckenliste Rückseite'!H44) -> 0 | Q46: =SUM('Streckenliste Rückseite'!I44) -> 0 | R46: =SUM('Streckenliste Rückseite'!J44) -> 0
D47: Sa. weibl. Muffelwild | E47: =SUM(E43:E45) -> 0 | F47: =SUM(F43:F45) -> 0 | G47: =SUM(G43:G45) -> 0 | H47: =SUM(H43:H45) -> 0 | J47: übrige Möwen | P47: =SUM('Streckenliste Rückseite'!H45) -> 0 | Q47: =SUM('Streckenliste Rückseite'!I45) -> 0 | R47: =SUM('Streckenliste Rückseite'!J45) -> 0
D48: Sa. Muffelwild | E48: =SUM(E46:E47) -> 0 | F48: =SUM(F46:F47) -> 0 | G48: =SUM(G46:G47) -> 0 | H48: =SUM(H46:H47) -> 0 | J48: Haubentaucher | P48: =SUM('Streckenliste Rückseite'!H46) -> 0 | Q48: =SUM('Streckenliste Rückseite'!I46) -> 0 | R48: =SUM('Streckenliste Rückseite'!J46) -> 0
A49: Rehwild | B49: Böcke | C49: 1 | D49: Alte Rehböcke | F49: =Rehwild!D54 -> 0 | G49: =Rehwild!D55 -> 0 | H49: =Rehwild!D56 -> 0 | J49: Graureiher | P49: =SUM('Streckenliste Rückseite'!H47) -> 0 | Q49: =SUM('Streckenliste Rückseite'!I47) -> 0 | R49: =SUM('Streckenliste Rückseite'!J47) -> 0
C50: 2 | D50: Mehrjährige Böcke | F50: =Rehwild!E54 -> 0 | G50: =Rehwild!E55 -> 0 | H50: =Rehwild!E56 -> 0 | J50: Habichte | P50: =SUM('Streckenliste Rückseite'!H48) -> 0 | Q50: =SUM('Streckenliste Rückseite'!I48) -> 0 | R50: =SUM('Streckenliste Rückseite'!J48) -> 0
C51: 4 | D51: Jährlinge | F51: =Rehwild!F54 -> 0 | G51: =Rehwild!F55 -> 0 | H51: =Rehwild!F56 -> 0 | J51: Sperber | P51: =SUM('Streckenliste Rückseite'!H49) -> 0 | Q51: =SUM('Streckenliste Rückseite'!I49) -> 0 | R51: =SUM('Streckenliste Rückseite'!J49) -> 0
C52: 5 | D52: Bockkitze | F52: =Rehwild!G54 -> 0 | G52: =Rehwild!G55 -> 0 | H52: =Rehwild!G56 -> 0 | J52: Mäusebussarde | P52: =SUM('Streckenliste Rückseite'!H50) -> 0 | Q52: =SUM('Streckenliste Rückseite'!I50) -> 0 | R52: =SUM('Streckenliste Rückseite'!J50) -> 0
C53: 5 | D53: Rickenkitze | F53: =Rehwild!H54 -> 0 | G53: =Rehwild!H55 -> 0 | H53: =Rehwild!H56 -> 0 | J53: Turmfalken | P53: =SUM('Streckenliste Rückseite'!H51) -> 0 | Q53: =SUM('Streckenliste Rückseite'!I51) -> 0 | R53: =SUM('Streckenliste Rückseite'!J51) -> 0
C54: 4 | D54: Schmalrehe | F54: =Rehwild!I54 -> 0 | G54: =Rehwild!I55 -> 0 | H54: =Rehwild!I56 -> 0 | J54: Wanderfalken | P54: =SUM('Streckenliste Rückseite'!H52) -> 0 | Q54: =SUM('Streckenliste Rückseite'!I52) -> 0 | R54: =SUM('Streckenliste Rückseite'!J52) -> 0
C55: 3 | D55: Ricken | F55: =Rehwild!J54 -> 0 | G55: =Rehwild!J55 -> 0 | H55: =Rehwild!J56 -> 0 | J55: Rotmilan | P55: =SUM('Streckenliste Rückseite'!H53) -> 0 | Q55: =SUM('Streckenliste Rückseite'!I53) -> 0 | R55: =SUM('Streckenliste Rückseite'!J53) -> 0
D56: Sa. männl. Rehwild | F56: =SUM(F49:F52) -> 0 | G56: =SUM(G49:G52) -> 0 | H56: =SUM(H49:H52) -> 0 | J56: übrige Greifvögel | P56: =SUM('Streckenliste Rückseite'!H54) -> 0 | Q56: =SUM('Streckenliste Rückseite'!I54) -> 0 | R56: =SUM('Streckenliste Rückseite'!J54) -> 0
D57: Sa. weibl. Rehwild | F57: =SUM(F53:F55) -> 0 | G57: =SUM(G53:G55) -> 0 | H57: =SUM(H53:H55) -> 0 | J57: Kolkraben | P57: =SUM('Streckenliste Rückseite'!H55) -> 0 | Q57: =SUM('Streckenliste Rückseite'!I55) -> 0 | R57: =SUM('Streckenliste Rückseite'!J55) -> 0
D58: Sa. Rehwild | F58: =SUM(F56:F57) -> 0 | G58: =SUM(G56:G57) -> 0 | H58: =SUM(H56:H57) -> 0 | J58: Rabenkrähen | P58: =SUM('Streckenliste Rückseite'!H56) -> 0 | Q58: =SUM('Streckenliste Rückseite'!I56) -> 0 | R58: =SUM('Streckenliste Rückseite'!J56) -> 0
A59: Schwarzwild | B59: Keiler | C59: 1 | D59: Keiler | F59: =Schwarzwild!D54 -> 0 | G59: =Schwarzwild!D55 -> 0 | H59: =Schwarzwild!D56 -> 0 | J59: Elstern | P59: =SUM('Streckenliste Rückseite'!H57) -> 0 | Q59: =SUM('Streckenliste Rückseite'!I57) -> 0 | R59: =SUM('Streckenliste Rückseite'!J57) -> 0
C60: 4 | D60: Überläuferkeiler | F60: =Schwarzwild!E54 -> 0 | G60: =Schwarzwild!E55 -> 0 | H60: =Schwarzwild!E56 -> 0 | I60: Tierart | P60: Gesamt | Q60: Anzahl Totfunde von Gesamt | R60: Anzahl Verkehrs- verluste von Totfunde
C61: 5 | D61: Frischlingskeiler | F61: =Schwarzwild!F54 -> 0 | G61: =Schwarzwild!F55 -> 0 | H61: =Schwarzwild!F56 -> 0
C62: 5 | D62: Frischlingsbachen | F62: =Schwarzwild!G54 -> 0 | G62: =Schwarzwild!G55 -> 0 | H62: =Schwarzwild!G56 -> 0
C63: 4 | D63: Überläuferbachen | F63: =Schwarzwild!H54 -> 0 | G63: =Schwarzwild!H55 -> 0 | H63: =Schwarzwild!H56 -> 0 | I63: Sonstiges | J63: wildernde Hunde | P63: =SUM('Streckenliste Rückseite'!H59) -> 0 | Q63: =SUM('Streckenliste Rückseite'!I59) -> 0 | R63: =SUM('Streckenliste Rückseite'!J59) -> 0
C64: 3 | D64: Bachen | F64: =Schwarzwild!I54 -> 0 | G64: =Schwarzwild!I55 -> 0 | H64: =Schwarzwild!I56 -> 0 | J64: Nutrias (Sumpfbiber) | P64: =SUM('Streckenliste Rückseite'!H60) -> 0 | Q64: =SUM('Streckenliste Rückseite'!I60) -> 0 | R64: =SUM('Streckenliste Rückseite'!J60) -> 0
D65: Sa. männl. Schwarzwild | F65: =SUM(F59:F61) -> 0 | G65: =SUM(G59:G61) -> 0 | H65: =SUM(H59:H61) -> 0 | J65: Bisam | P65: =SUM('Streckenliste Rückseite'!H61) -> 0 | Q65: =SUM('Streckenliste Rückseite'!I61) -> 0 | R65: =SUM('Streckenliste Rückseite'!J61) -> 0
D66: Sa. weibl. Schwarzwild | F66: =SUM(F62:F64) -> 0 | G66: =SUM(G62:G64) -> 0 | H66: =SUM(H62:H64) -> 0 | J66: Kormorane | P66: =SUM('Streckenliste Rückseite'!H62) -> 0 | Q66: =SUM('Streckenliste Rückseite'!I62) -> 0 | R66: =SUM('Streckenliste Rückseite'!J62) -> 0
D67: Sa. Schwarzwild | F67: =SUM(F65:F66) -> 0 | G67: =SUM(G65:G66) -> 0 | H67: =SUM(H65:H66) -> 0
